BEGIN:VCALENDAR
PRODID:-//Microsoft Corporation//Outlook 12.0 MIMEDIR//EN
VERSION:2.0
CALSCALE:GREGORIAN
BEGIN:VEVENT
UID: f02314c8-0456-4e11-8a2b-243df3a17e0a
SUMMARY:Õiguskansler Ülle Madise loeng 9.-12. klasside õpilastele
DTSTAMP:20260304T095000
DTSTART:20260304T095000
DTEND:20260304T103500
LOCATION:Kose Kultuurikeskuse suures saalis
DESCRIPTION: <p style="-webkit-text-stroke-width:0px;background-color:rgb(255, 255, 255);border-width:0px;box-sizing:border-box;color:rgb(74, 74, 74);font-family:Roboto, Arial, Verdana, sans-serif;font-feature-settings:inherit;font-kerning:inherit;font-language-override:inherit;font-optical-sizing:inherit;font-size-adjust:inherit;font-size:16px;font-stretch:inherit;font-style:normal;font-variant-alternates:inherit;font-variant-caps:normal;font-variant-east-asian:inherit;font-variant-emoji:inherit;font-variant-ligatures:normal;font-variant-numeric:inherit;font-variant-position:inherit;font-variation-settings:inherit;font-weight:400;letter-spacing:normal;line-height:1.5;margin:0px;orphans:2;padding:0px;text-align:left;text-decoration-color:initial;text-decoration-style:initial;text-decoration-thickness:initial;text-indent:0px;text-transform:none;vertical-align:baseline;white-space:normal;widows:2;word-spacing:0px;">Kolmapäeval, 4. märtsil kell 9.50–10.35 toimub kultuurimaja suures saalis loeng 9.-12. klasside õpilastele, kus esineb Eesti Vabariigi õiguskantsler Ülle Madise.</p><p style="-webkit-text-stroke-width:0px;background-color:rgb(255, 255, 255);border-width:0px;box-sizing:border-box;color:rgb(74, 74, 74);font-family:Roboto, Arial, Verdana, sans-serif;font-feature-settings:inherit;font-kerning:inherit;font-language-override:inherit;font-optical-sizing:inherit;font-size-adjust:inherit;font-size:16px;font-stretch:inherit;font-style:normal;font-variant-alternates:inherit;font-variant-caps:normal;font-variant-east-asian:inherit;font-variant-emoji:inherit;font-variant-ligatures:normal;font-variant-numeric:inherit;font-variant-position:inherit;font-variation-settings:inherit;font-weight:400;letter-spacing:normal;line-height:1.5;margin:1rem 0px 0px;orphans:2;padding:0px;text-align:left;text-decoration-color:initial;text-decoration-style:initial;text-decoration-thickness:initial;text-indent:0px;text-transform:none;vertical-align:baseline;white-space:normal;widows:2;word-spacing:0px;">Loengu eesmärk on pakkuda teile sisukat ja praktilist sissevaadet Eesti riigi toimimisse ning õigusriigi põhimõtetesse. Lähtume teemadest, mille vastu noored on ise enim huvi tundnud, sealhulgas:</p><p style="-webkit-text-stroke-width:0px;background-color:rgb(255, 255, 255);border-width:0px;box-sizing:border-box;color:rgb(74, 74, 74);font-family:Roboto, Arial, Verdana, sans-serif;font-feature-settings:inherit;font-kerning:inherit;font-language-override:inherit;font-optical-sizing:inherit;font-size-adjust:inherit;font-size:16px;font-stretch:inherit;font-style:normal;font-variant-alternates:inherit;font-variant-caps:normal;font-variant-east-asian:inherit;font-variant-emoji:inherit;font-variant-ligatures:normal;font-variant-numeric:inherit;font-variant-position:inherit;font-variation-settings:inherit;font-weight:400;letter-spacing:normal;line-height:1.5;margin:1rem 0px 0px;orphans:2;padding:0px;text-align:left;text-decoration-color:initial;text-decoration-style:initial;text-decoration-thickness:initial;text-indent:0px;text-transform:none;vertical-align:baseline;white-space:normal;widows:2;word-spacing:0px;"><br>• õiguskantsleri roll ja igapäevatöö – millised on õiguskantsleri peamised ülesanded ning miks on see institutsioon Eesti riigile vajalik</p><p style="-webkit-text-stroke-width:0px;background-color:rgb(255, 255, 255);border-width:0px;box-sizing:border-box;color:rgb(74, 74, 74);font-family:Roboto, Arial, Verdana, sans-serif;font-feature-settings:inherit;font-kerning:inherit;font-language-override:inherit;font-optical-sizing:inherit;font-size-adjust:inherit;font-size:16px;font-stretch:inherit;font-style:normal;font-variant-alternates:inherit;font-variant-caps:normal;font-variant-east-asian:inherit;font-variant-emoji:inherit;font-variant-ligatures:normal;font-variant-numeric:inherit;font-variant-position:inherit;font-variation-settings:inherit;font-weight:400;letter-spacing:normal;line-height:1.5;margin:1rem 0px 0px;orphans:2;padding:0px;text-align:left;text-decoration-color:initial;text-decoration-style:initial;text-decoration-thickness:initial;text-indent:0px;text-transform:none;vertical-align:baseline;white-space:normal;widows:2;word-spacing:0px;">• mõju erinevatel tasanditel – kuidas õiguskantsleri töö puudutab riiki, kohalikku omavalitsust ja üksikisikut</p><p style="-webkit-text-stroke-width:0px;background-color:rgb(255, 255, 255);border-width:0px;box-sizing:border-box;color:rgb(74, 74, 74);font-family:Roboto, Arial, Verdana, sans-serif;font-feature-settings:inherit;font-kerning:inherit;font-language-override:inherit;font-optical-sizing:inherit;font-size-adjust:inherit;font-size:16px;font-stretch:inherit;font-style:normal;font-variant-alternates:inherit;font-variant-caps:normal;font-variant-east-asian:inherit;font-variant-emoji:inherit;font-variant-ligatures:normal;font-variant-numeric:inherit;font-variant-position:inherit;font-variation-settings:inherit;font-weight:400;letter-spacing:normal;line-height:1.5;margin:1rem 0px 0px;orphans:2;padding:0px;text-align:left;text-decoration-color:initial;text-decoration-style:initial;text-decoration-thickness:initial;text-indent:0px;text-transform:none;vertical-align:baseline;white-space:normal;widows:2;word-spacing:0px;">• noored ja haridus – milline on õiguskantsleri roll haridusküsimustes ning milliste murede või küsimustega on noortel põhjust õiguskantsleri poole pöörduda</p><p style="-webkit-text-stroke-width:0px;background-color:rgb(255, 255, 255);border-width:0px;box-sizing:border-box;color:rgb(74, 74, 74);font-family:Roboto, Arial, Verdana, sans-serif;font-feature-settings:inherit;font-kerning:inherit;font-language-override:inherit;font-optical-sizing:inherit;font-size-adjust:inherit;font-size:16px;font-stretch:inherit;font-style:normal;font-variant-alternates:inherit;font-variant-caps:normal;font-variant-east-asian:inherit;font-variant-emoji:inherit;font-variant-ligatures:normal;font-variant-numeric:inherit;font-variant-position:inherit;font-variation-settings:inherit;font-weight:400;letter-spacing:normal;line-height:1.5;margin:1rem 0px 0px;orphans:2;padding:0px;text-align:left;text-decoration-color:initial;text-decoration-style:initial;text-decoration-thickness:initial;text-indent:0px;text-transform:none;vertical-align:baseline;white-space:normal;widows:2;word-spacing:0px;">• areng ajas – kuidas on õiguskantsleri institutsioon ning ühiskondlikud ootused aja jooksul muutunud</p><p style="-webkit-text-stroke-width:0px;background-color:rgb(255, 255, 255);border-width:0px;box-sizing:border-box;color:rgb(74, 74, 74);font-family:Roboto, Arial, Verdana, sans-serif;font-feature-settings:inherit;font-kerning:inherit;font-language-override:inherit;font-optical-sizing:inherit;font-size-adjust:inherit;font-size:16px;font-stretch:inherit;font-style:normal;font-variant-alternates:inherit;font-variant-caps:normal;font-variant-east-asian:inherit;font-variant-emoji:inherit;font-variant-ligatures:normal;font-variant-numeric:inherit;font-variant-position:inherit;font-variation-settings:inherit;font-weight:400;letter-spacing:normal;line-height:1.5;margin:1rem 0px 0px;orphans:2;padding:0px;text-align:left;text-decoration-color:initial;text-decoration-style:initial;text-decoration-thickness:initial;text-indent:0px;text-transform:none;vertical-align:baseline;white-space:normal;widows:2;word-spacing:0px;">Tegu on hea võimalusega kuulata vahetut ja sisulist käsitlust teemadel, mis puudutavad teid kui noori kodanikke nii praegu kui ka tulevikus.</p><p style="-webkit-text-stroke-width:0px;background-color:rgb(255, 255, 255);border-width:0px;box-sizing:border-box;color:rgb(74, 74, 74);font-family:Roboto, Arial, Verdana, sans-serif;font-feature-settings:inherit;font-kerning:inherit;font-language-override:inherit;font-optical-sizing:inherit;font-size-adjust:inherit;font-size:16px;font-stretch:inherit;font-style:normal;font-variant-alternates:inherit;font-variant-caps:normal;font-variant-east-asian:inherit;font-variant-emoji:inherit;font-variant-ligatures:normal;font-variant-numeric:inherit;font-variant-position:inherit;font-variation-settings:inherit;font-weight:400;letter-spacing:normal;line-height:1.5;margin:1rem 0px 0px;orphans:2;padding:0px;text-align:left;text-decoration-color:initial;text-decoration-style:initial;text-decoration-thickness:initial;text-indent:0px;text-transform:none;vertical-align:baseline;white-space:normal;widows:2;word-spacing:0px;">Palume osavõtul täpselt kinni pidada ajakavast ja käitumisreeglitest.</p><p><strong>Link: </strong>https://kose.edu.ee/sundmuste-kalender/oiguskansler-ulle-madise-loeng-9-12-klasside-opilastele</p><p><strong>Hind: </strong></p>
STATUS:CONFIRMED
SEQUENCE:3
X-ALT-DESC;FMTTYPE=text/html:<p style="-webkit-text-stroke-width:0px;background-color:rgb(255, 255, 255);border-width:0px;box-sizing:border-box;color:rgb(74, 74, 74);font-family:Roboto, Arial, Verdana, sans-serif;font-feature-settings:inherit;font-kerning:inherit;font-language-override:inherit;font-optical-sizing:inherit;font-size-adjust:inherit;font-size:16px;font-stretch:inherit;font-style:normal;font-variant-alternates:inherit;font-variant-caps:normal;font-variant-east-asian:inherit;font-variant-emoji:inherit;font-variant-ligatures:normal;font-variant-numeric:inherit;font-variant-position:inherit;font-variation-settings:inherit;font-weight:400;letter-spacing:normal;line-height:1.5;margin:0px;orphans:2;padding:0px;text-align:left;text-decoration-color:initial;text-decoration-style:initial;text-decoration-thickness:initial;text-indent:0px;text-transform:none;vertical-align:baseline;white-space:normal;widows:2;word-spacing:0px;">Kolmapäeval, 4. märtsil kell 9.50–10.35 toimub kultuurimaja suures saalis loeng 9.-12. klasside õpilastele, kus esineb Eesti Vabariigi õiguskantsler Ülle Madise.</p><p style="-webkit-text-stroke-width:0px;background-color:rgb(255, 255, 255);border-width:0px;box-sizing:border-box;color:rgb(74, 74, 74);font-family:Roboto, Arial, Verdana, sans-serif;font-feature-settings:inherit;font-kerning:inherit;font-language-override:inherit;font-optical-sizing:inherit;font-size-adjust:inherit;font-size:16px;font-stretch:inherit;font-style:normal;font-variant-alternates:inherit;font-variant-caps:normal;font-variant-east-asian:inherit;font-variant-emoji:inherit;font-variant-ligatures:normal;font-variant-numeric:inherit;font-variant-position:inherit;font-variation-settings:inherit;font-weight:400;letter-spacing:normal;line-height:1.5;margin:1rem 0px 0px;orphans:2;padding:0px;text-align:left;text-decoration-color:initial;text-decoration-style:initial;text-decoration-thickness:initial;text-indent:0px;text-transform:none;vertical-align:baseline;white-space:normal;widows:2;word-spacing:0px;">Loengu eesmärk on pakkuda teile sisukat ja praktilist sissevaadet Eesti riigi toimimisse ning õigusriigi põhimõtetesse. Lähtume teemadest, mille vastu noored on ise enim huvi tundnud, sealhulgas:</p><p style="-webkit-text-stroke-width:0px;background-color:rgb(255, 255, 255);border-width:0px;box-sizing:border-box;color:rgb(74, 74, 74);font-family:Roboto, Arial, Verdana, sans-serif;font-feature-settings:inherit;font-kerning:inherit;font-language-override:inherit;font-optical-sizing:inherit;font-size-adjust:inherit;font-size:16px;font-stretch:inherit;font-style:normal;font-variant-alternates:inherit;font-variant-caps:normal;font-variant-east-asian:inherit;font-variant-emoji:inherit;font-variant-ligatures:normal;font-variant-numeric:inherit;font-variant-position:inherit;font-variation-settings:inherit;font-weight:400;letter-spacing:normal;line-height:1.5;margin:1rem 0px 0px;orphans:2;padding:0px;text-align:left;text-decoration-color:initial;text-decoration-style:initial;text-decoration-thickness:initial;text-indent:0px;text-transform:none;vertical-align:baseline;white-space:normal;widows:2;word-spacing:0px;"><br>• õiguskantsleri roll ja igapäevatöö – millised on õiguskantsleri peamised ülesanded ning miks on see institutsioon Eesti riigile vajalik</p><p style="-webkit-text-stroke-width:0px;background-color:rgb(255, 255, 255);border-width:0px;box-sizing:border-box;color:rgb(74, 74, 74);font-family:Roboto, Arial, Verdana, sans-serif;font-feature-settings:inherit;font-kerning:inherit;font-language-override:inherit;font-optical-sizing:inherit;font-size-adjust:inherit;font-size:16px;font-stretch:inherit;font-style:normal;font-variant-alternates:inherit;font-variant-caps:normal;font-variant-east-asian:inherit;font-variant-emoji:inherit;font-variant-ligatures:normal;font-variant-numeric:inherit;font-variant-position:inherit;font-variation-settings:inherit;font-weight:400;letter-spacing:normal;line-height:1.5;margin:1rem 0px 0px;orphans:2;padding:0px;text-align:left;text-decoration-color:initial;text-decoration-style:initial;text-decoration-thickness:initial;text-indent:0px;text-transform:none;vertical-align:baseline;white-space:normal;widows:2;word-spacing:0px;">• mõju erinevatel tasanditel – kuidas õiguskantsleri töö puudutab riiki, kohalikku omavalitsust ja üksikisikut</p><p style="-webkit-text-stroke-width:0px;background-color:rgb(255, 255, 255);border-width:0px;box-sizing:border-box;color:rgb(74, 74, 74);font-family:Roboto, Arial, Verdana, sans-serif;font-feature-settings:inherit;font-kerning:inherit;font-language-override:inherit;font-optical-sizing:inherit;font-size-adjust:inherit;font-size:16px;font-stretch:inherit;font-style:normal;font-variant-alternates:inherit;font-variant-caps:normal;font-variant-east-asian:inherit;font-variant-emoji:inherit;font-variant-ligatures:normal;font-variant-numeric:inherit;font-variant-position:inherit;font-variation-settings:inherit;font-weight:400;letter-spacing:normal;line-height:1.5;margin:1rem 0px 0px;orphans:2;padding:0px;text-align:left;text-decoration-color:initial;text-decoration-style:initial;text-decoration-thickness:initial;text-indent:0px;text-transform:none;vertical-align:baseline;white-space:normal;widows:2;word-spacing:0px;">• noored ja haridus – milline on õiguskantsleri roll haridusküsimustes ning milliste murede või küsimustega on noortel põhjust õiguskantsleri poole pöörduda</p><p style="-webkit-text-stroke-width:0px;background-color:rgb(255, 255, 255);border-width:0px;box-sizing:border-box;color:rgb(74, 74, 74);font-family:Roboto, Arial, Verdana, sans-serif;font-feature-settings:inherit;font-kerning:inherit;font-language-override:inherit;font-optical-sizing:inherit;font-size-adjust:inherit;font-size:16px;font-stretch:inherit;font-style:normal;font-variant-alternates:inherit;font-variant-caps:normal;font-variant-east-asian:inherit;font-variant-emoji:inherit;font-variant-ligatures:normal;font-variant-numeric:inherit;font-variant-position:inherit;font-variation-settings:inherit;font-weight:400;letter-spacing:normal;line-height:1.5;margin:1rem 0px 0px;orphans:2;padding:0px;text-align:left;text-decoration-color:initial;text-decoration-style:initial;text-decoration-thickness:initial;text-indent:0px;text-transform:none;vertical-align:baseline;white-space:normal;widows:2;word-spacing:0px;">• areng ajas – kuidas on õiguskantsleri institutsioon ning ühiskondlikud ootused aja jooksul muutunud</p><p style="-webkit-text-stroke-width:0px;background-color:rgb(255, 255, 255);border-width:0px;box-sizing:border-box;color:rgb(74, 74, 74);font-family:Roboto, Arial, Verdana, sans-serif;font-feature-settings:inherit;font-kerning:inherit;font-language-override:inherit;font-optical-sizing:inherit;font-size-adjust:inherit;font-size:16px;font-stretch:inherit;font-style:normal;font-variant-alternates:inherit;font-variant-caps:normal;font-variant-east-asian:inherit;font-variant-emoji:inherit;font-variant-ligatures:normal;font-variant-numeric:inherit;font-variant-position:inherit;font-variation-settings:inherit;font-weight:400;letter-spacing:normal;line-height:1.5;margin:1rem 0px 0px;orphans:2;padding:0px;text-align:left;text-decoration-color:initial;text-decoration-style:initial;text-decoration-thickness:initial;text-indent:0px;text-transform:none;vertical-align:baseline;white-space:normal;widows:2;word-spacing:0px;">Tegu on hea võimalusega kuulata vahetut ja sisulist käsitlust teemadel, mis puudutavad teid kui noori kodanikke nii praegu kui ka tulevikus.</p><p style="-webkit-text-stroke-width:0px;background-color:rgb(255, 255, 255);border-width:0px;box-sizing:border-box;color:rgb(74, 74, 74);font-family:Roboto, Arial, Verdana, sans-serif;font-feature-settings:inherit;font-kerning:inherit;font-language-override:inherit;font-optical-sizing:inherit;font-size-adjust:inherit;font-size:16px;font-stretch:inherit;font-style:normal;font-variant-alternates:inherit;font-variant-caps:normal;font-variant-east-asian:inherit;font-variant-emoji:inherit;font-variant-ligatures:normal;font-variant-numeric:inherit;font-variant-position:inherit;font-variation-settings:inherit;font-weight:400;letter-spacing:normal;line-height:1.5;margin:1rem 0px 0px;orphans:2;padding:0px;text-align:left;text-decoration-color:initial;text-decoration-style:initial;text-decoration-thickness:initial;text-indent:0px;text-transform:none;vertical-align:baseline;white-space:normal;widows:2;word-spacing:0px;">Palume osavõtul täpselt kinni pidada ajakavast ja käitumisreeglitest.</p><p><strong>Link: </strong>https://kose.edu.ee/sundmuste-kalender/oiguskansler-ulle-madise-loeng-9-12-klasside-opilastele</p><p><strong>Hind: </strong></p>
X-MICROSOFT-CDO-BUSYSTATUS:OOF
X-MICROSOFT-CDO-IMPORTANCE:1
X-MICROSOFT-DISALLOW-COUNTER:FALSE
X-MS-OLK-ALLOWEXTERNCHECK:TRUE
X-MS-OLK-CONFTYPE:0
X-MICROSOFT-CDO-ALLDAYEVENT:
X-MICROSOFT-MSNCALENDAR-ALLDAYEVENT:
END:VEVENT
END:VCALENDAR