BEGIN:VCALENDAR
PRODID:-//Microsoft Corporation//Outlook 12.0 MIMEDIR//EN
VERSION:2.0
CALSCALE:GREGORIAN
BEGIN:VEVENT
UID: 8ac25580-53e6-4688-83b9-3556feb56009
SUMMARY:Naljapäev 1.aprillil
DTSTAMP:20260401
DTSTART:20260401
DTEND:20260402
DURATION:P1D
LOCATION:
DESCRIPTION: <p><span style="-webkit-text-stroke-width:0px;background-color:rgb(252, 254, 255);color:rgb(17, 17, 17);display:inline !important;float:none;font-family:&quot;Stuudium Sans&quot;, BlinkMacSystemFont, -apple-system, &quot;Segoe UI&quot;, Roboto, Helvetica, Arial, sans-serif;font-size:15px;font-style:normal;font-variant-caps:normal;font-variant-ligatures:normal;font-weight:400;letter-spacing:-0.135px;orphans:2;text-align:start;text-decoration-color:initial;text-decoration-style:initial;text-decoration-thickness:initial;text-indent:0px;text-transform:none;white-space:normal;widows:2;word-spacing:0px;">🤡 NALJAPÄEV KOSE GÜMNAASIUMIS! 🤡</span><br><span style="-webkit-text-stroke-width:0px;background-color:rgb(252, 254, 255);color:rgb(17, 17, 17);display:inline !important;float:none;font-family:&quot;Stuudium Sans&quot;, BlinkMacSystemFont, -apple-system, &quot;Segoe UI&quot;, Roboto, Helvetica, Arial, sans-serif;font-size:15px;font-style:normal;font-variant-caps:normal;font-variant-ligatures:normal;font-weight:400;letter-spacing:-0.135px;orphans:2;text-align:start;text-decoration-color:initial;text-decoration-style:initial;text-decoration-thickness:initial;text-indent:0px;text-transform:none;white-space:normal;widows:2;word-spacing:0px;">📅 Kolmapäeval, 1. aprillil</span><br><br><span style="-webkit-text-stroke-width:0px;background-color:rgb(252, 254, 255);color:rgb(17, 17, 17);display:inline !important;float:none;font-family:&quot;Stuudium Sans&quot;, BlinkMacSystemFont, -apple-system, &quot;Segoe UI&quot;, Roboto, Helvetica, Arial, sans-serif;font-size:15px;font-style:normal;font-variant-caps:normal;font-variant-ligatures:normal;font-weight:400;letter-spacing:-0.135px;orphans:2;text-align:start;text-decoration-color:initial;text-decoration-style:initial;text-decoration-thickness:initial;text-indent:0px;text-transform:none;white-space:normal;widows:2;word-spacing:0px;">Tule kooli hea tuju ja naljameelega, sest ees ootab lõbus päev!</span><br><br><span style="-webkit-text-stroke-width:0px;background-color:rgb(252, 254, 255);color:rgb(17, 17, 17);display:inline !important;float:none;font-family:&quot;Stuudium Sans&quot;, BlinkMacSystemFont, -apple-system, &quot;Segoe UI&quot;, Roboto, Helvetica, Arial, sans-serif;font-size:15px;font-style:normal;font-variant-caps:normal;font-variant-ligatures:normal;font-weight:400;letter-spacing:-0.135px;orphans:2;text-align:start;text-decoration-color:initial;text-decoration-style:initial;text-decoration-thickness:initial;text-indent:0px;text-transform:none;white-space:normal;widows:2;word-spacing:0px;">🎒 Koolikotivaba päev</span><br><span style="-webkit-text-stroke-width:0px;background-color:rgb(252, 254, 255);color:rgb(17, 17, 17);display:inline !important;float:none;font-family:&quot;Stuudium Sans&quot;, BlinkMacSystemFont, -apple-system, &quot;Segoe UI&quot;, Roboto, Helvetica, Arial, sans-serif;font-size:15px;font-style:normal;font-variant-caps:normal;font-variant-ligatures:normal;font-weight:400;letter-spacing:-0.135px;orphans:2;text-align:start;text-decoration-color:initial;text-decoration-style:initial;text-decoration-thickness:initial;text-indent:0px;text-transform:none;white-space:normal;widows:2;word-spacing:0px;">Jäta seljakott koju ja ole loov! Too oma asjad kooli näiteks ämbris, kohvris, kärus või mõnes muus põnevas „kotis”.</span><br><span style="-webkit-text-stroke-width:0px;background-color:rgb(252, 254, 255);color:rgb(17, 17, 17);display:inline !important;float:none;font-family:&quot;Stuudium Sans&quot;, BlinkMacSystemFont, -apple-system, &quot;Segoe UI&quot;, Roboto, Helvetica, Arial, sans-serif;font-size:15px;font-style:normal;font-variant-caps:normal;font-variant-ligatures:normal;font-weight:400;letter-spacing:-0.135px;orphans:2;text-align:start;text-decoration-color:initial;text-decoration-style:initial;text-decoration-thickness:initial;text-indent:0px;text-transform:none;white-space:normal;widows:2;word-spacing:0px;">(Õppevahendid peavad muidugi ikka kaasas olema!)</span><br><br><span style="-webkit-text-stroke-width:0px;background-color:rgb(252, 254, 255);color:rgb(17, 17, 17);display:inline !important;float:none;font-family:&quot;Stuudium Sans&quot;, BlinkMacSystemFont, -apple-system, &quot;Segoe UI&quot;, Roboto, Helvetica, Arial, sans-serif;font-size:15px;font-style:normal;font-variant-caps:normal;font-variant-ligatures:normal;font-weight:400;letter-spacing:-0.135px;orphans:2;text-align:start;text-decoration-color:initial;text-decoration-style:initial;text-decoration-thickness:initial;text-indent:0px;text-transform:none;white-space:normal;widows:2;word-spacing:0px;">👕 Naljakad riided</span><br><span style="-webkit-text-stroke-width:0px;background-color:rgb(252, 254, 255);color:rgb(17, 17, 17);display:inline !important;float:none;font-family:&quot;Stuudium Sans&quot;, BlinkMacSystemFont, -apple-system, &quot;Segoe UI&quot;, Roboto, Helvetica, Arial, sans-serif;font-size:15px;font-style:normal;font-variant-caps:normal;font-variant-ligatures:normal;font-weight:400;letter-spacing:-0.135px;orphans:2;text-align:start;text-decoration-color:initial;text-decoration-style:initial;text-decoration-thickness:initial;text-indent:0px;text-transform:none;white-space:normal;widows:2;word-spacing:0px;">Pane selga midagi eriti veidrat ja lõbusat – mida värvilisem ja kummalisem, seda parem!</span><br><br><span style="-webkit-text-stroke-width:0px;background-color:rgb(252, 254, 255);color:rgb(17, 17, 17);display:inline !important;float:none;font-family:&quot;Stuudium Sans&quot;, BlinkMacSystemFont, -apple-system, &quot;Segoe UI&quot;, Roboto, Helvetica, Arial, sans-serif;font-size:15px;font-style:normal;font-variant-caps:normal;font-variant-ligatures:normal;font-weight:400;letter-spacing:-0.135px;orphans:2;text-align:start;text-decoration-color:initial;text-decoration-style:initial;text-decoration-thickness:initial;text-indent:0px;text-transform:none;white-space:normal;widows:2;word-spacing:0px;">Peamajas lisaks:</span><br><br><span style="-webkit-text-stroke-width:0px;background-color:rgb(252, 254, 255);color:rgb(17, 17, 17);display:inline !important;float:none;font-family:&quot;Stuudium Sans&quot;, BlinkMacSystemFont, -apple-system, &quot;Segoe UI&quot;, Roboto, Helvetica, Arial, sans-serif;font-size:15px;font-style:normal;font-variant-caps:normal;font-variant-ligatures:normal;font-weight:400;letter-spacing:-0.135px;orphans:2;text-align:start;text-decoration-color:initial;text-decoration-style:initial;text-decoration-thickness:initial;text-indent:0px;text-transform:none;white-space:normal;widows:2;word-spacing:0px;">🎙️ Kaide naljaraadio ootab sinu nalju!</span><br><span style="-webkit-text-stroke-width:0px;background-color:rgb(252, 254, 255);color:rgb(17, 17, 17);display:inline !important;float:none;font-family:&quot;Stuudium Sans&quot;, BlinkMacSystemFont, -apple-system, &quot;Segoe UI&quot;, Roboto, Helvetica, Arial, sans-serif;font-size:15px;font-style:normal;font-variant-caps:normal;font-variant-ligatures:normal;font-weight:400;letter-spacing:-0.135px;orphans:2;text-align:start;text-decoration-color:initial;text-decoration-style:initial;text-decoration-thickness:initial;text-indent:0px;text-transform:none;white-space:normal;widows:2;word-spacing:0px;">Kas tead head nalja või anekdooti? Pane see kirja ja vii peamaja administraatori kätte. Parimad naljad loetakse ette „Kaide naljaraadios”!</span><br><br><span style="-webkit-text-stroke-width:0px;background-color:rgb(252, 254, 255);color:rgb(17, 17, 17);display:inline !important;float:none;font-family:&quot;Stuudium Sans&quot;, BlinkMacSystemFont, -apple-system, &quot;Segoe UI&quot;, Roboto, Helvetica, Arial, sans-serif;font-size:15px;font-style:normal;font-variant-caps:normal;font-variant-ligatures:normal;font-weight:400;letter-spacing:-0.135px;orphans:2;text-align:start;text-decoration-color:initial;text-decoration-style:initial;text-decoration-thickness:initial;text-indent:0px;text-transform:none;white-space:normal;widows:2;word-spacing:0px;">🖼️ Meemisein</span><br><span style="-webkit-text-stroke-width:0px;background-color:rgb(252, 254, 255);color:rgb(17, 17, 17);display:inline !important;float:none;font-family:&quot;Stuudium Sans&quot;, BlinkMacSystemFont, -apple-system, &quot;Segoe UI&quot;, Roboto, Helvetica, Arial, sans-serif;font-size:15px;font-style:normal;font-variant-caps:normal;font-variant-ligatures:normal;font-weight:400;letter-spacing:-0.135px;orphans:2;text-align:start;text-decoration-color:initial;text-decoration-style:initial;text-decoration-thickness:initial;text-indent:0px;text-transform:none;white-space:normal;widows:2;word-spacing:0px;">Oled kõva meemimeister? Tee üks eriti äge meem ja vii see huvijuhi juurde – sinu töö pannakse kõigile vaatamiseks välja!</span><br><br><span style="-webkit-text-stroke-width:0px;background-color:rgb(252, 254, 255);color:rgb(17, 17, 17);display:inline !important;float:none;font-family:&quot;Stuudium Sans&quot;, BlinkMacSystemFont, -apple-system, &quot;Segoe UI&quot;, Roboto, Helvetica, Arial, sans-serif;font-size:15px;font-style:normal;font-variant-caps:normal;font-variant-ligatures:normal;font-weight:400;letter-spacing:-0.135px;orphans:2;text-align:start;text-decoration-color:initial;text-decoration-style:initial;text-decoration-thickness:initial;text-indent:0px;text-transform:none;white-space:normal;widows:2;word-spacing:0px;">Tule ja teeme selle päeva koos võimalikult naljakaks! 😄</span></p><p><strong>Link: </strong>https://kose.edu.ee/sundmuste-kalender/naljapaev-1aprillil</p><p><strong>Hind: </strong></p>
STATUS:CONFIRMED
SEQUENCE:3
X-ALT-DESC;FMTTYPE=text/html:<p><span style="-webkit-text-stroke-width:0px;background-color:rgb(252, 254, 255);color:rgb(17, 17, 17);display:inline !important;float:none;font-family:&quot;Stuudium Sans&quot;, BlinkMacSystemFont, -apple-system, &quot;Segoe UI&quot;, Roboto, Helvetica, Arial, sans-serif;font-size:15px;font-style:normal;font-variant-caps:normal;font-variant-ligatures:normal;font-weight:400;letter-spacing:-0.135px;orphans:2;text-align:start;text-decoration-color:initial;text-decoration-style:initial;text-decoration-thickness:initial;text-indent:0px;text-transform:none;white-space:normal;widows:2;word-spacing:0px;">🤡 NALJAPÄEV KOSE GÜMNAASIUMIS! 🤡</span><br><span style="-webkit-text-stroke-width:0px;background-color:rgb(252, 254, 255);color:rgb(17, 17, 17);display:inline !important;float:none;font-family:&quot;Stuudium Sans&quot;, BlinkMacSystemFont, -apple-system, &quot;Segoe UI&quot;, Roboto, Helvetica, Arial, sans-serif;font-size:15px;font-style:normal;font-variant-caps:normal;font-variant-ligatures:normal;font-weight:400;letter-spacing:-0.135px;orphans:2;text-align:start;text-decoration-color:initial;text-decoration-style:initial;text-decoration-thickness:initial;text-indent:0px;text-transform:none;white-space:normal;widows:2;word-spacing:0px;">📅 Kolmapäeval, 1. aprillil</span><br><br><span style="-webkit-text-stroke-width:0px;background-color:rgb(252, 254, 255);color:rgb(17, 17, 17);display:inline !important;float:none;font-family:&quot;Stuudium Sans&quot;, BlinkMacSystemFont, -apple-system, &quot;Segoe UI&quot;, Roboto, Helvetica, Arial, sans-serif;font-size:15px;font-style:normal;font-variant-caps:normal;font-variant-ligatures:normal;font-weight:400;letter-spacing:-0.135px;orphans:2;text-align:start;text-decoration-color:initial;text-decoration-style:initial;text-decoration-thickness:initial;text-indent:0px;text-transform:none;white-space:normal;widows:2;word-spacing:0px;">Tule kooli hea tuju ja naljameelega, sest ees ootab lõbus päev!</span><br><br><span style="-webkit-text-stroke-width:0px;background-color:rgb(252, 254, 255);color:rgb(17, 17, 17);display:inline !important;float:none;font-family:&quot;Stuudium Sans&quot;, BlinkMacSystemFont, -apple-system, &quot;Segoe UI&quot;, Roboto, Helvetica, Arial, sans-serif;font-size:15px;font-style:normal;font-variant-caps:normal;font-variant-ligatures:normal;font-weight:400;letter-spacing:-0.135px;orphans:2;text-align:start;text-decoration-color:initial;text-decoration-style:initial;text-decoration-thickness:initial;text-indent:0px;text-transform:none;white-space:normal;widows:2;word-spacing:0px;">🎒 Koolikotivaba päev</span><br><span style="-webkit-text-stroke-width:0px;background-color:rgb(252, 254, 255);color:rgb(17, 17, 17);display:inline !important;float:none;font-family:&quot;Stuudium Sans&quot;, BlinkMacSystemFont, -apple-system, &quot;Segoe UI&quot;, Roboto, Helvetica, Arial, sans-serif;font-size:15px;font-style:normal;font-variant-caps:normal;font-variant-ligatures:normal;font-weight:400;letter-spacing:-0.135px;orphans:2;text-align:start;text-decoration-color:initial;text-decoration-style:initial;text-decoration-thickness:initial;text-indent:0px;text-transform:none;white-space:normal;widows:2;word-spacing:0px;">Jäta seljakott koju ja ole loov! Too oma asjad kooli näiteks ämbris, kohvris, kärus või mõnes muus põnevas „kotis”.</span><br><span style="-webkit-text-stroke-width:0px;background-color:rgb(252, 254, 255);color:rgb(17, 17, 17);display:inline !important;float:none;font-family:&quot;Stuudium Sans&quot;, BlinkMacSystemFont, -apple-system, &quot;Segoe UI&quot;, Roboto, Helvetica, Arial, sans-serif;font-size:15px;font-style:normal;font-variant-caps:normal;font-variant-ligatures:normal;font-weight:400;letter-spacing:-0.135px;orphans:2;text-align:start;text-decoration-color:initial;text-decoration-style:initial;text-decoration-thickness:initial;text-indent:0px;text-transform:none;white-space:normal;widows:2;word-spacing:0px;">(Õppevahendid peavad muidugi ikka kaasas olema!)</span><br><br><span style="-webkit-text-stroke-width:0px;background-color:rgb(252, 254, 255);color:rgb(17, 17, 17);display:inline !important;float:none;font-family:&quot;Stuudium Sans&quot;, BlinkMacSystemFont, -apple-system, &quot;Segoe UI&quot;, Roboto, Helvetica, Arial, sans-serif;font-size:15px;font-style:normal;font-variant-caps:normal;font-variant-ligatures:normal;font-weight:400;letter-spacing:-0.135px;orphans:2;text-align:start;text-decoration-color:initial;text-decoration-style:initial;text-decoration-thickness:initial;text-indent:0px;text-transform:none;white-space:normal;widows:2;word-spacing:0px;">👕 Naljakad riided</span><br><span style="-webkit-text-stroke-width:0px;background-color:rgb(252, 254, 255);color:rgb(17, 17, 17);display:inline !important;float:none;font-family:&quot;Stuudium Sans&quot;, BlinkMacSystemFont, -apple-system, &quot;Segoe UI&quot;, Roboto, Helvetica, Arial, sans-serif;font-size:15px;font-style:normal;font-variant-caps:normal;font-variant-ligatures:normal;font-weight:400;letter-spacing:-0.135px;orphans:2;text-align:start;text-decoration-color:initial;text-decoration-style:initial;text-decoration-thickness:initial;text-indent:0px;text-transform:none;white-space:normal;widows:2;word-spacing:0px;">Pane selga midagi eriti veidrat ja lõbusat – mida värvilisem ja kummalisem, seda parem!</span><br><br><span style="-webkit-text-stroke-width:0px;background-color:rgb(252, 254, 255);color:rgb(17, 17, 17);display:inline !important;float:none;font-family:&quot;Stuudium Sans&quot;, BlinkMacSystemFont, -apple-system, &quot;Segoe UI&quot;, Roboto, Helvetica, Arial, sans-serif;font-size:15px;font-style:normal;font-variant-caps:normal;font-variant-ligatures:normal;font-weight:400;letter-spacing:-0.135px;orphans:2;text-align:start;text-decoration-color:initial;text-decoration-style:initial;text-decoration-thickness:initial;text-indent:0px;text-transform:none;white-space:normal;widows:2;word-spacing:0px;">Peamajas lisaks:</span><br><br><span style="-webkit-text-stroke-width:0px;background-color:rgb(252, 254, 255);color:rgb(17, 17, 17);display:inline !important;float:none;font-family:&quot;Stuudium Sans&quot;, BlinkMacSystemFont, -apple-system, &quot;Segoe UI&quot;, Roboto, Helvetica, Arial, sans-serif;font-size:15px;font-style:normal;font-variant-caps:normal;font-variant-ligatures:normal;font-weight:400;letter-spacing:-0.135px;orphans:2;text-align:start;text-decoration-color:initial;text-decoration-style:initial;text-decoration-thickness:initial;text-indent:0px;text-transform:none;white-space:normal;widows:2;word-spacing:0px;">🎙️ Kaide naljaraadio ootab sinu nalju!</span><br><span style="-webkit-text-stroke-width:0px;background-color:rgb(252, 254, 255);color:rgb(17, 17, 17);display:inline !important;float:none;font-family:&quot;Stuudium Sans&quot;, BlinkMacSystemFont, -apple-system, &quot;Segoe UI&quot;, Roboto, Helvetica, Arial, sans-serif;font-size:15px;font-style:normal;font-variant-caps:normal;font-variant-ligatures:normal;font-weight:400;letter-spacing:-0.135px;orphans:2;text-align:start;text-decoration-color:initial;text-decoration-style:initial;text-decoration-thickness:initial;text-indent:0px;text-transform:none;white-space:normal;widows:2;word-spacing:0px;">Kas tead head nalja või anekdooti? Pane see kirja ja vii peamaja administraatori kätte. Parimad naljad loetakse ette „Kaide naljaraadios”!</span><br><br><span style="-webkit-text-stroke-width:0px;background-color:rgb(252, 254, 255);color:rgb(17, 17, 17);display:inline !important;float:none;font-family:&quot;Stuudium Sans&quot;, BlinkMacSystemFont, -apple-system, &quot;Segoe UI&quot;, Roboto, Helvetica, Arial, sans-serif;font-size:15px;font-style:normal;font-variant-caps:normal;font-variant-ligatures:normal;font-weight:400;letter-spacing:-0.135px;orphans:2;text-align:start;text-decoration-color:initial;text-decoration-style:initial;text-decoration-thickness:initial;text-indent:0px;text-transform:none;white-space:normal;widows:2;word-spacing:0px;">🖼️ Meemisein</span><br><span style="-webkit-text-stroke-width:0px;background-color:rgb(252, 254, 255);color:rgb(17, 17, 17);display:inline !important;float:none;font-family:&quot;Stuudium Sans&quot;, BlinkMacSystemFont, -apple-system, &quot;Segoe UI&quot;, Roboto, Helvetica, Arial, sans-serif;font-size:15px;font-style:normal;font-variant-caps:normal;font-variant-ligatures:normal;font-weight:400;letter-spacing:-0.135px;orphans:2;text-align:start;text-decoration-color:initial;text-decoration-style:initial;text-decoration-thickness:initial;text-indent:0px;text-transform:none;white-space:normal;widows:2;word-spacing:0px;">Oled kõva meemimeister? Tee üks eriti äge meem ja vii see huvijuhi juurde – sinu töö pannakse kõigile vaatamiseks välja!</span><br><br><span style="-webkit-text-stroke-width:0px;background-color:rgb(252, 254, 255);color:rgb(17, 17, 17);display:inline !important;float:none;font-family:&quot;Stuudium Sans&quot;, BlinkMacSystemFont, -apple-system, &quot;Segoe UI&quot;, Roboto, Helvetica, Arial, sans-serif;font-size:15px;font-style:normal;font-variant-caps:normal;font-variant-ligatures:normal;font-weight:400;letter-spacing:-0.135px;orphans:2;text-align:start;text-decoration-color:initial;text-decoration-style:initial;text-decoration-thickness:initial;text-indent:0px;text-transform:none;white-space:normal;widows:2;word-spacing:0px;">Tule ja teeme selle päeva koos võimalikult naljakaks! 😄</span></p><p><strong>Link: </strong>https://kose.edu.ee/sundmuste-kalender/naljapaev-1aprillil</p><p><strong>Hind: </strong></p>
X-MICROSOFT-CDO-BUSYSTATUS:OOF
X-MICROSOFT-CDO-IMPORTANCE:1
X-MICROSOFT-DISALLOW-COUNTER:FALSE
X-MS-OLK-ALLOWEXTERNCHECK:TRUE
X-MS-OLK-CONFTYPE:0
X-MICROSOFT-CDO-ALLDAYEVENT:1
X-MICROSOFT-MSNCALENDAR-ALLDAYEVENT:1
END:VEVENT
END:VCALENDAR